BEGIN:VCALENDAR
VERSION:2.0
PRODID:-//Brauer College - ECPv6.8.1//NONSGML v1.0//EN
CALSCALE:GREGORIAN
METHOD:PUBLISH
X-WR-CALNAME:Brauer College
X-ORIGINAL-URL:https://www.brauer.vic.edu.au
X-WR-CALDESC:Events for Brauer College
REFRESH-INTERVAL;VALUE=DURATION:PT1H
X-Robots-Tag:noindex
X-PUBLISHED-TTL:PT1H
BEGIN:VTIMEZONE
TZID:Australia/Sydney
BEGIN:STANDARD
TZOFFSETFROM:+1100
TZOFFSETTO:+1000
TZNAME:AEST
DTSTART:20240406T160000
END:STANDARD
BEGIN:DAYLIGHT
TZOFFSETFROM:+1000
TZOFFSETTO:+1100
TZNAME:AEDT
DTSTART:20241005T160000
END:DAYLIGHT
END:VTIMEZONE
BEGIN:VEVENT
DTSTART;VALUE=DATE:20240915
DTEND;VALUE=DATE:20241001
DTSTAMP:20260424T020057
CREATED:20240909T012109Z
LAST-MODIFIED:20240930T021010Z
UID:16475-1726358400-1727740799@www.brauer.vic.edu.au
SUMMARY:Rock to Reef Camp
DESCRIPTION:
URL:https://www.brauer.vic.edu.au/event/rock-to-reef-camp/
END:VEVENT
BEGIN:VEVENT
DTSTART;VALUE=DATE:20240918
DTEND;VALUE=DATE:20240919
DTSTAMP:20260424T020057
CREATED:20240904T024004Z
LAST-MODIFIED:20240918T233902Z
UID:16308-1726617600-1726703999@www.brauer.vic.edu.au
SUMMARY:Bell Shakespeare in PAC. Year 9 (P1-P2) Year 8 (P3-P4) Year 10 (P5-P6)
DESCRIPTION:
URL:https://www.brauer.vic.edu.au/event/bell-shakespeare-in-pac-year-9-p1-p2-year-8-p3-p4-year-10-p5-p6/
END:VEVENT
END:VCALENDAR