BEGIN:VCALENDAR
VERSION:2.0
PRODID:-//Brauer College - ECPv6.8.1//NONSGML v1.0//EN
CALSCALE:GREGORIAN
METHOD:PUBLISH
X-WR-CALNAME:Brauer College
X-ORIGINAL-URL:https://www.brauer.vic.edu.au
X-WR-CALDESC:Events for Brauer College
REFRESH-INTERVAL;VALUE=DURATION:PT1H
X-Robots-Tag:noindex
X-PUBLISHED-TTL:PT1H
BEGIN:VTIMEZONE
TZID:Australia/Sydney
BEGIN:STANDARD
TZOFFSETFROM:+1100
TZOFFSETTO:+1000
TZNAME:AEST
DTSTART:20240406T160000
END:STANDARD
BEGIN:DAYLIGHT
TZOFFSETFROM:+1000
TZOFFSETTO:+1100
TZNAME:AEDT
DTSTART:20241005T160000
END:DAYLIGHT
END:VTIMEZONE
BEGIN:VEVENT
DTSTART;VALUE=DATE:20241007
DTEND;VALUE=DATE:20241123
DTSTAMP:20260424T001412
CREATED:20240909T082332Z
LAST-MODIFIED:20240930T021010Z
UID:16529-1728259200-1732319999@www.brauer.vic.edu.au
SUMMARY:Report Cycle 6
DESCRIPTION:
URL:https://www.brauer.vic.edu.au/event/report-cycle-6/
END:VEVENT
BEGIN:VEVENT
DTSTART;VALUE=DATE:20241105
DTEND;VALUE=DATE:20241106
DTSTAMP:20260424T001412
CREATED:20240909T082332Z
LAST-MODIFIED:20240930T021026Z
UID:16528-1730764800-1730851199@www.brauer.vic.edu.au
SUMMARY:Sports Industry Program 2024/2025 Junior Fitness Testing Days (Year 7\, 8\, 9 2024 SIP Classes)
DESCRIPTION:
URL:https://www.brauer.vic.edu.au/event/sports-industry-program-2024-2025-junior-fitness-testing-days-year-7-8-9-2024-sip-classes/
END:VEVENT
END:VCALENDAR