BEGIN:VCALENDAR
VERSION:2.0
PRODID:-//Brauer College - ECPv6.8.1//NONSGML v1.0//EN
CALSCALE:GREGORIAN
METHOD:PUBLISH
X-ORIGINAL-URL:https://www.brauer.vic.edu.au
X-WR-CALDESC:Events for Brauer College
REFRESH-INTERVAL;VALUE=DURATION:PT1H
X-Robots-Tag:noindex
X-PUBLISHED-TTL:PT1H
BEGIN:VTIMEZONE
TZID:Australia/Sydney
BEGIN:STANDARD
TZOFFSETFROM:+1100
TZOFFSETTO:+1000
TZNAME:AEST
DTSTART:20250405T160000
END:STANDARD
BEGIN:DAYLIGHT
TZOFFSETFROM:+1000
TZOFFSETTO:+1100
TZNAME:AEDT
DTSTART:20251004T160000
END:DAYLIGHT
END:VTIMEZONE
BEGIN:VEVENT
DTSTART;VALUE=DATE:20250728
DTEND;VALUE=DATE:20250802
DTSTAMP:20260423T084953
CREATED:20240909T082414Z
LAST-MODIFIED:20240930T021123Z
UID:16562-1753660800-1754092799@www.brauer.vic.edu.au
SUMMARY:Year 12 Outdoor Ed Snow Trip
DESCRIPTION:
URL:https://www.brauer.vic.edu.au/event/year-12-outdoor-ed-snow-trip/
END:VEVENT
END:VCALENDAR