BEGIN:VCALENDAR
VERSION:2.0
PRODID:-//Brauer College - ECPv6.8.1//NONSGML v1.0//EN
CALSCALE:GREGORIAN
METHOD:PUBLISH
X-WR-CALNAME:Brauer College
X-ORIGINAL-URL:https://www.brauer.vic.edu.au
X-WR-CALDESC:Events for Brauer College
REFRESH-INTERVAL;VALUE=DURATION:PT1H
X-Robots-Tag:noindex
X-PUBLISHED-TTL:PT1H
BEGIN:VTIMEZONE
TZID:Australia/Sydney
BEGIN:STANDARD
TZOFFSETFROM:+1100
TZOFFSETTO:+1000
TZNAME:AEST
DTSTART:20250405T160000
END:STANDARD
BEGIN:DAYLIGHT
TZOFFSETFROM:+1000
TZOFFSETTO:+1100
TZNAME:AEDT
DTSTART:20251004T160000
END:DAYLIGHT
END:VTIMEZONE
BEGIN:VEVENT
DTSTART;VALUE=DATE:20250804
DTEND;VALUE=DATE:20250809
DTSTAMP:20260423T085016
CREATED:20240909T082414Z
LAST-MODIFIED:20240930T021123Z
UID:16564-1754265600-1754697599@www.brauer.vic.edu.au
SUMMARY:Year 10 Snow Trip
DESCRIPTION:
URL:https://www.brauer.vic.edu.au/event/year-10-snow-trip/
LOCATION:Mansfield and Mount Buller
END:VEVENT
BEGIN:VEVENT
DTSTART;VALUE=DATE:20250815
DTEND;VALUE=DATE:20250816
DTSTAMP:20260423T085016
CREATED:20240909T082414Z
LAST-MODIFIED:20240930T021123Z
UID:16565-1755216000-1755302399@www.brauer.vic.edu.au
SUMMARY:Yr 11 Outdoor Education Caving Day (TBA on 2025 timetable)
DESCRIPTION:
URL:https://www.brauer.vic.edu.au/event/yr-11-outdoor-education-caving-day-tba-on-2025-timetable/
END:VEVENT
BEGIN:VEVENT
DTSTART;VALUE=DATE:20250818
DTEND;VALUE=DATE:20250823
DTSTAMP:20260423T085016
CREATED:20240909T082414Z
LAST-MODIFIED:20240930T021123Z
UID:16566-1755475200-1755907199@www.brauer.vic.edu.au
SUMMARY:Musical Week
DESCRIPTION:
URL:https://www.brauer.vic.edu.au/event/musical-week/
END:VEVENT
BEGIN:VEVENT
DTSTART;VALUE=DATE:20250825
DTEND;VALUE=DATE:20250826
DTSTAMP:20260423T085016
CREATED:20240910T081009Z
LAST-MODIFIED:20240930T021136Z
UID:16614-1756080000-1756166399@www.brauer.vic.edu.au
SUMMARY:Elevate Study Skills All Year 12 VCE students (P3-P4 in PAC)
DESCRIPTION:
URL:https://www.brauer.vic.edu.au/event/elevate-study-skills-all-year-12-vce-students-p3-p4-in-pac-2/
END:VEVENT
BEGIN:VEVENT
DTSTART;VALUE=DATE:20250901
DTEND;VALUE=DATE:20250902
DTSTAMP:20260423T085016
CREATED:20240909T082414Z
LAST-MODIFIED:20240930T021136Z
UID:16567-1756684800-1756771199@www.brauer.vic.edu.au
SUMMARY:Yr 11 Outdoor Education Mountain Bike Riding Day (TBA on 2025 timetable)
DESCRIPTION:
URL:https://www.brauer.vic.edu.au/event/yr-11-outdoor-education-mountain-bike-riding-day-tba-on-2025-timetable/
END:VEVENT
BEGIN:VEVENT
DTSTART;VALUE=DATE:20250919
DTEND;VALUE=DATE:20250920
DTSTAMP:20260423T085016
CREATED:20240917T152406Z
LAST-MODIFIED:20240930T021136Z
UID:16824-1758240000-1758326399@www.brauer.vic.edu.au
SUMMARY:LAST DAY OF TERM 3
DESCRIPTION:
URL:https://www.brauer.vic.edu.au/event/last-day-of-term-3/
END:VEVENT
END:VCALENDAR