BEGIN:VCALENDAR
VERSION:2.0
PRODID:-//Brauer College - ECPv6.8.1//NONSGML v1.0//EN
CALSCALE:GREGORIAN
METHOD:PUBLISH
X-WR-CALNAME:Brauer College
X-ORIGINAL-URL:https://www.brauer.vic.edu.au
X-WR-CALDESC:Events for Brauer College
REFRESH-INTERVAL;VALUE=DURATION:PT1H
X-Robots-Tag:noindex
X-PUBLISHED-TTL:PT1H
BEGIN:VTIMEZONE
TZID:Australia/Sydney
BEGIN:STANDARD
TZOFFSETFROM:+1100
TZOFFSETTO:+1000
TZNAME:AEST
DTSTART:20240406T160000
END:STANDARD
BEGIN:DAYLIGHT
TZOFFSETFROM:+1000
TZOFFSETTO:+1100
TZNAME:AEDT
DTSTART:20241005T160000
END:DAYLIGHT
BEGIN:STANDARD
TZOFFSETFROM:+1100
TZOFFSETTO:+1000
TZNAME:AEST
DTSTART:20250405T160000
END:STANDARD
BEGIN:DAYLIGHT
TZOFFSETFROM:+1000
TZOFFSETTO:+1100
TZNAME:AEDT
DTSTART:20251004T160000
END:DAYLIGHT
END:VTIMEZONE
BEGIN:VEVENT
DTSTART;VALUE=DATE:20250304
DTEND;VALUE=DATE:20250307
DTSTAMP:20260423T080317
CREATED:20240910T081008Z
LAST-MODIFIED:20240930T021054Z
UID:16612-1741046400-1741305599@www.brauer.vic.edu.au
SUMMARY:Year 7 Camp
DESCRIPTION:
URL:https://www.brauer.vic.edu.au/event/year-7-camp-2/
END:VEVENT
BEGIN:VEVENT
DTSTART;VALUE=DATE:20250304
DTEND;VALUE=DATE:20250305
DTSTAMP:20260423T080317
CREATED:20240910T081008Z
LAST-MODIFIED:20240930T021054Z
UID:16613-1741046400-1741132799@www.brauer.vic.edu.au
SUMMARY:Elevate Study Skills All Year 11 VCE students (P1-P2 in PAC)
DESCRIPTION:
URL:https://www.brauer.vic.edu.au/event/elevate-study-skills-all-year-11-vce-students-p1-p2-in-pac/
END:VEVENT
BEGIN:VEVENT
DTSTART;VALUE=DATE:20250304
DTEND;VALUE=DATE:20250305
DTSTAMP:20260423T080317
CREATED:20240910T081008Z
LAST-MODIFIED:20240930T021054Z
UID:16611-1741046400-1741132799@www.brauer.vic.edu.au
SUMMARY:Elevate Study Skills All Year 12 VCE students (P3-P4 in PAC)
DESCRIPTION:
URL:https://www.brauer.vic.edu.au/event/elevate-study-skills-all-year-12-vce-students-p3-p4-in-pac/
END:VEVENT
BEGIN:VEVENT
DTSTART;VALUE=DATE:20250110
DTEND;VALUE=DATE:20250111
DTSTAMP:20260423T080317
CREATED:20240909T082413Z
LAST-MODIFIED:20240930T021054Z
UID:16538-1736467200-1736553599@www.brauer.vic.edu.au
SUMMARY:January Round 1 offer University offers released at 2pm
DESCRIPTION:
URL:https://www.brauer.vic.edu.au/event/january-round-1-offer-university-offers-released-at-2pm/
END:VEVENT
BEGIN:VEVENT
DTSTART;VALUE=DATE:20250101
DTEND;VALUE=DATE:20250102
DTSTAMP:20260423T080317
CREATED:20240909T082413Z
LAST-MODIFIED:20240930T021054Z
UID:16537-1735689600-1735775999@www.brauer.vic.edu.au
SUMMARY:New Year's Day
DESCRIPTION:
URL:https://www.brauer.vic.edu.au/event/new-years-day/
END:VEVENT
BEGIN:VEVENT
DTSTART;VALUE=DATE:20241223
DTEND;VALUE=DATE:20241224
DTSTAMP:20260423T080317
CREATED:20240909T082359Z
LAST-MODIFIED:20240930T021054Z
UID:16532-1734912000-1734998399@www.brauer.vic.edu.au
SUMMARY:December University offers released at 10am
DESCRIPTION:
URL:https://www.brauer.vic.edu.au/event/december-university-offers-released-at-10am/
END:VEVENT
BEGIN:VEVENT
DTSTART;TZID=Australia/Sydney:20241213T093000
DTEND;TZID=Australia/Sydney:20241213T113000
DTSTAMP:20260423T080317
CREATED:20240909T012110Z
LAST-MODIFIED:20240930T021054Z
UID:16493-1734082200-1734089400@www.brauer.vic.edu.au
SUMMARY:MIDDLE SCHOOL FINAL ASSEMBLY (a.m.)
DESCRIPTION:
URL:https://www.brauer.vic.edu.au/event/middle-school-final-assembly-a-m/
END:VEVENT
BEGIN:VEVENT
DTSTART;TZID=Australia/Sydney:20241212T180000
DTEND;TZID=Australia/Sydney:20241212T200000
DTSTAMP:20260423T080317
CREATED:20240909T012110Z
LAST-MODIFIED:20240930T021041Z
UID:16491-1734026400-1734033600@www.brauer.vic.edu.au
SUMMARY:SENIOR FINAL ASSEMBLY
DESCRIPTION:
URL:https://www.brauer.vic.edu.au/event/senior-final-assembly/
END:VEVENT
BEGIN:VEVENT
DTSTART;VALUE=DATE:20241212
DTEND;VALUE=DATE:20241213
DTSTAMP:20260423T080317
CREATED:20240909T082359Z
LAST-MODIFIED:20240930T021054Z
UID:16531-1733961600-1734047999@www.brauer.vic.edu.au
SUMMARY:VCE results + ATAR released at 7am
DESCRIPTION:
URL:https://www.brauer.vic.edu.au/event/vce-results-atar-released-at-7am/
END:VEVENT
BEGIN:VEVENT
DTSTART;VALUE=DATE:20241212
DTEND;VALUE=DATE:20241213
DTSTAMP:20260423T080317
CREATED:20240909T012110Z
LAST-MODIFIED:20240930T021054Z
UID:16492-1733961600-1734047999@www.brauer.vic.edu.au
SUMMARY:Year 7-9 PICNIC DAY
DESCRIPTION:
URL:https://www.brauer.vic.edu.au/event/year-7-9-picnic-day/
END:VEVENT
BEGIN:VEVENT
DTSTART;VALUE=DATE:20241209
DTEND;VALUE=DATE:20241211
DTSTAMP:20260423T080317
CREATED:20240909T012110Z
LAST-MODIFIED:20240930T021041Z
UID:16489-1733702400-1733875199@www.brauer.vic.edu.au
SUMMARY:Orientation Days - 2025 Year 7 students & selected other students only. No scheduled classes
DESCRIPTION:
URL:https://www.brauer.vic.edu.au/event/orientation-days-2025-year-7-students-selected-other-students-only-no-scheduled-classes/
END:VEVENT
BEGIN:VEVENT
DTSTART;VALUE=DATE:20241209
DTEND;VALUE=DATE:20241211
DTSTAMP:20260423T080317
CREATED:20240909T012110Z
LAST-MODIFIED:20240930T021041Z
UID:16490-1733702400-1733875199@www.brauer.vic.edu.au
SUMMARY:PEER SUPPORT TRAINING for 2025
DESCRIPTION:
URL:https://www.brauer.vic.edu.au/event/peer-support-training-for-2025/
END:VEVENT
BEGIN:VEVENT
DTSTART;VALUE=DATE:20241206
DTEND;VALUE=DATE:20241207
DTSTAMP:20260423T080317
CREATED:20240909T012110Z
LAST-MODIFIED:20240930T021041Z
UID:16486-1733443200-1733529599@www.brauer.vic.edu.au
SUMMARY:Year 10 & 11 CELEBRATION DAYS
DESCRIPTION:
URL:https://www.brauer.vic.edu.au/event/year-10-11-celebration-day/
END:VEVENT
BEGIN:VEVENT
DTSTART;VALUE=DATE:20241127
DTEND;VALUE=DATE:20241128
DTSTAMP:20260423T080317
CREATED:20240904T024004Z
LAST-MODIFIED:20240930T021041Z
UID:16317-1732665600-1732751999@www.brauer.vic.edu.au
SUMMARY:Year 12 Graduation Dinner
DESCRIPTION:
URL:https://www.brauer.vic.edu.au/event/year-12-graduation-dinner/
END:VEVENT
BEGIN:VEVENT
DTSTART;VALUE=DATE:20241126
DTEND;VALUE=DATE:20241207
DTSTAMP:20260423T080317
CREATED:20240909T012110Z
LAST-MODIFIED:20240930T021041Z
UID:16488-1732579200-1733529599@www.brauer.vic.edu.au
SUMMARY:2025 STEP UP PROGRAM (2024 Yr 7-9)
DESCRIPTION:
URL:https://www.brauer.vic.edu.au/event/2025-step-up-program-2024-yr-7-9/
END:VEVENT
BEGIN:VEVENT
DTSTART;VALUE=DATE:20241126
DTEND;VALUE=DATE:20241206
DTSTAMP:20260423T080317
CREATED:20240909T012110Z
LAST-MODIFIED:20240930T021041Z
UID:16487-1732579200-1733443199@www.brauer.vic.edu.au
SUMMARY:2025 SENIOR SCHOOL STEP UP (2024 Yr 10 & 11)
DESCRIPTION:
URL:https://www.brauer.vic.edu.au/event/2025-senior-school-step-up-2024-yr-10-11/
END:VEVENT
BEGIN:VEVENT
DTSTART;VALUE=DATE:20241126
DTEND;VALUE=DATE:20241127
DTSTAMP:20260423T080317
CREATED:20240904T024005Z
LAST-MODIFIED:20240930T021041Z
UID:16318-1732579200-1732665599@www.brauer.vic.edu.au
SUMMARY:2025 Year 7  Information Night
DESCRIPTION:
URL:https://www.brauer.vic.edu.au/event/2025-year-7-information-night/
END:VEVENT
BEGIN:VEVENT
DTSTART;VALUE=DATE:20241125
DTEND;VALUE=DATE:20241126
DTSTAMP:20260423T080317
CREATED:20240909T012109Z
LAST-MODIFIED:20240930T021041Z
UID:16485-1732492800-1732579199@www.brauer.vic.edu.au
SUMMARY:ASSESSMENT & PLANNING DAY - Pupil free
DESCRIPTION:
URL:https://www.brauer.vic.edu.au/event/assessment-planning-day-pupil-free/
END:VEVENT
BEGIN:VEVENT
DTSTART;VALUE=DATE:20241120
DTEND;VALUE=DATE:20241123
DTSTAMP:20260423T080317
CREATED:20240909T033907Z
LAST-MODIFIED:20240930T021041Z
UID:16520-1732060800-1732319999@www.brauer.vic.edu.au
SUMMARY:Year 8 Camp 5  - adventure
DESCRIPTION:
URL:https://www.brauer.vic.edu.au/event/year-8-camp-5/
END:VEVENT
BEGIN:VEVENT
DTSTART;VALUE=DATE:20241118
DTEND;VALUE=DATE:20241122
DTSTAMP:20260423T080317
CREATED:20240909T012109Z
LAST-MODIFIED:20240930T021026Z
UID:16484-1731888000-1732233599@www.brauer.vic.edu.au
SUMMARY:Year 10 exams in normal class time
DESCRIPTION:
URL:https://www.brauer.vic.edu.au/event/year-10-exams-in-normal-class-time/
END:VEVENT
BEGIN:VEVENT
DTSTART;VALUE=DATE:20241113
DTEND;VALUE=DATE:20241116
DTSTAMP:20260423T080317
CREATED:20240909T012109Z
LAST-MODIFIED:20240930T021026Z
UID:16483-1731456000-1731715199@www.brauer.vic.edu.au
SUMMARY:Year 8 camp 4 - tour
DESCRIPTION:
URL:https://www.brauer.vic.edu.au/event/year-8-camp-3/
END:VEVENT
BEGIN:VEVENT
DTSTART;VALUE=DATE:20241111
DTEND;VALUE=DATE:20241114
DTSTAMP:20260423T080317
CREATED:20240909T012109Z
LAST-MODIFIED:20240930T021026Z
UID:16482-1731283200-1731542399@www.brauer.vic.edu.au
SUMMARY:Year 8 Hike Camp 3
DESCRIPTION:
URL:https://www.brauer.vic.edu.au/event/year-8-hike-camp/
END:VEVENT
BEGIN:VEVENT
DTSTART;VALUE=DATE:20241108
DTEND;VALUE=DATE:20241109
DTSTAMP:20260423T080317
CREATED:20240909T012109Z
LAST-MODIFIED:20240930T021026Z
UID:16481-1731024000-1731110399@www.brauer.vic.edu.au
SUMMARY:Remembrance Day Ceremony 9am
DESCRIPTION:
URL:https://www.brauer.vic.edu.au/event/remembrance-day-ceremony-9am/
END:VEVENT
BEGIN:VEVENT
DTSTART;VALUE=DATE:20241106
DTEND;VALUE=DATE:20241109
DTSTAMP:20260423T080317
CREATED:20240909T012109Z
LAST-MODIFIED:20240930T021026Z
UID:16480-1730851200-1731110399@www.brauer.vic.edu.au
SUMMARY:Year 8 Camp 2 - tour
DESCRIPTION:
URL:https://www.brauer.vic.edu.au/event/year-8-camp-2/
END:VEVENT
BEGIN:VEVENT
DTSTART;VALUE=DATE:20241105
DTEND;VALUE=DATE:20241106
DTSTAMP:20260423T080317
CREATED:20240909T082332Z
LAST-MODIFIED:20240930T021026Z
UID:16528-1730764800-1730851199@www.brauer.vic.edu.au
SUMMARY:Sports Industry Program 2024/2025 Junior Fitness Testing Days (Year 7\, 8\, 9 2024 SIP Classes)
DESCRIPTION:
URL:https://www.brauer.vic.edu.au/event/sports-industry-program-2024-2025-junior-fitness-testing-days-year-7-8-9-2024-sip-classes/
END:VEVENT
BEGIN:VEVENT
DTSTART;VALUE=DATE:20241030
DTEND;VALUE=DATE:20241102
DTSTAMP:20260423T080317
CREATED:20240909T012109Z
LAST-MODIFIED:20240930T021026Z
UID:16479-1730246400-1730505599@www.brauer.vic.edu.au
SUMMARY:Year 8 camp 1 - adventure
DESCRIPTION:
URL:https://www.brauer.vic.edu.au/event/year-8-camp-1/
END:VEVENT
BEGIN:VEVENT
DTSTART;VALUE=DATE:20241023
DTEND;VALUE=DATE:20241024
DTSTAMP:20260423T080317
CREATED:20240909T012109Z
LAST-MODIFIED:20240930T021026Z
UID:16478-1729641600-1729727999@www.brauer.vic.edu.au
SUMMARY:Yr 12 Celebration Day
DESCRIPTION:
URL:https://www.brauer.vic.edu.au/event/yr-12-celebration-day/
END:VEVENT
BEGIN:VEVENT
DTSTART;TZID=Australia/Sydney:20241022T140000
DTEND;TZID=Australia/Sydney:20241022T150000
DTSTAMP:20260423T080317
CREATED:20240909T012109Z
LAST-MODIFIED:20240930T021026Z
UID:16477-1729605600-1729609200@www.brauer.vic.edu.au
SUMMARY:Passing of the Flag Ceremony
DESCRIPTION:
URL:https://www.brauer.vic.edu.au/event/passing-of-the-flag-ceremony/
END:VEVENT
BEGIN:VEVENT
DTSTART;VALUE=DATE:20241021
DTEND;VALUE=DATE:20241022
DTSTAMP:20260423T080317
CREATED:20240904T024004Z
LAST-MODIFIED:20240930T021026Z
UID:16316-1729468800-1729555199@www.brauer.vic.edu.au
SUMMARY:Year 9 FutureME Session (during 2 periods)
DESCRIPTION:
URL:https://www.brauer.vic.edu.au/event/year-9-futureme-session-during-2-periods-2/
END:VEVENT
BEGIN:VEVENT
DTSTART;VALUE=DATE:20241018
DTEND;VALUE=DATE:20241019
DTSTAMP:20260423T080317
CREATED:20240909T012109Z
LAST-MODIFIED:20240930T021011Z
UID:16476-1729209600-1729295999@www.brauer.vic.edu.au
SUMMARY:Year 10 Formal in the PAC 6.30pm to 9.30pm
DESCRIPTION:
URL:https://www.brauer.vic.edu.au/event/year-10-formal-in-the-pac-6-30pm-to-9-30pm/
END:VEVENT
END:VCALENDAR