BEGIN:VCALENDAR
VERSION:2.0
PRODID:-//Brauer College - ECPv6.8.1//NONSGML v1.0//EN
CALSCALE:GREGORIAN
METHOD:PUBLISH
X-WR-CALNAME:Brauer College
X-ORIGINAL-URL:https://www.brauer.vic.edu.au
X-WR-CALDESC:Events for Brauer College
REFRESH-INTERVAL;VALUE=DURATION:PT1H
X-Robots-Tag:noindex
X-PUBLISHED-TTL:PT1H
BEGIN:VTIMEZONE
TZID:Australia/Sydney
BEGIN:STANDARD
TZOFFSETFROM:+1100
TZOFFSETTO:+1000
TZNAME:AEST
DTSTART:20240406T160000
END:STANDARD
BEGIN:DAYLIGHT
TZOFFSETFROM:+1000
TZOFFSETTO:+1100
TZNAME:AEDT
DTSTART:20241005T160000
END:DAYLIGHT
END:VTIMEZONE
BEGIN:VEVENT
DTSTART;VALUE=DATE:20241105
DTEND;VALUE=DATE:20241106
DTSTAMP:20260423T084637
CREATED:20240909T082332Z
LAST-MODIFIED:20240930T021026Z
UID:16528-1730764800-1730851199@www.brauer.vic.edu.au
SUMMARY:Sports Industry Program 2024/2025 Junior Fitness Testing Days (Year 7\, 8\, 9 2024 SIP Classes)
DESCRIPTION:
URL:https://www.brauer.vic.edu.au/event/sports-industry-program-2024-2025-junior-fitness-testing-days-year-7-8-9-2024-sip-classes/
END:VEVENT
BEGIN:VEVENT
DTSTART;VALUE=DATE:20241030
DTEND;VALUE=DATE:20241102
DTSTAMP:20260423T084637
CREATED:20240909T012109Z
LAST-MODIFIED:20240930T021026Z
UID:16479-1730246400-1730505599@www.brauer.vic.edu.au
SUMMARY:Year 8 camp 1 - adventure
DESCRIPTION:
URL:https://www.brauer.vic.edu.au/event/year-8-camp-1/
END:VEVENT
BEGIN:VEVENT
DTSTART;VALUE=DATE:20241023
DTEND;VALUE=DATE:20241024
DTSTAMP:20260423T084637
CREATED:20240909T012109Z
LAST-MODIFIED:20240930T021026Z
UID:16478-1729641600-1729727999@www.brauer.vic.edu.au
SUMMARY:Yr 12 Celebration Day
DESCRIPTION:
URL:https://www.brauer.vic.edu.au/event/yr-12-celebration-day/
END:VEVENT
BEGIN:VEVENT
DTSTART;TZID=Australia/Sydney:20241022T140000
DTEND;TZID=Australia/Sydney:20241022T150000
DTSTAMP:20260423T084637
CREATED:20240909T012109Z
LAST-MODIFIED:20240930T021026Z
UID:16477-1729605600-1729609200@www.brauer.vic.edu.au
SUMMARY:Passing of the Flag Ceremony
DESCRIPTION:
URL:https://www.brauer.vic.edu.au/event/passing-of-the-flag-ceremony/
END:VEVENT
BEGIN:VEVENT
DTSTART;VALUE=DATE:20241021
DTEND;VALUE=DATE:20241022
DTSTAMP:20260423T084637
CREATED:20240904T024004Z
LAST-MODIFIED:20240930T021026Z
UID:16316-1729468800-1729555199@www.brauer.vic.edu.au
SUMMARY:Year 9 FutureME Session (during 2 periods)
DESCRIPTION:
URL:https://www.brauer.vic.edu.au/event/year-9-futureme-session-during-2-periods-2/
END:VEVENT
BEGIN:VEVENT
DTSTART;VALUE=DATE:20241018
DTEND;VALUE=DATE:20241019
DTSTAMP:20260423T084637
CREATED:20240909T012109Z
LAST-MODIFIED:20240930T021011Z
UID:16476-1729209600-1729295999@www.brauer.vic.edu.au
SUMMARY:Year 10 Formal in the PAC 6.30pm to 9.30pm
DESCRIPTION:
URL:https://www.brauer.vic.edu.au/event/year-10-formal-in-the-pac-6-30pm-to-9-30pm/
END:VEVENT
BEGIN:VEVENT
DTSTART;VALUE=DATE:20241018
DTEND;VALUE=DATE:20241019
DTSTAMP:20260423T084637
CREATED:20240904T024004Z
LAST-MODIFIED:20240930T021011Z
UID:16314-1729209600-1729295999@www.brauer.vic.edu.au
SUMMARY:WD Junior Summer Sports
DESCRIPTION:
URL:https://www.brauer.vic.edu.au/event/wd-junior-summer-sports/
END:VEVENT
BEGIN:VEVENT
DTSTART;VALUE=DATE:20241017
DTEND;VALUE=DATE:20241018
DTSTAMP:20260423T084637
CREATED:20240904T024004Z
LAST-MODIFIED:20240930T021011Z
UID:16315-1729123200-1729209599@www.brauer.vic.edu.au
SUMMARY:Year 9 FutureME Session (all day at Deakin)
DESCRIPTION:
URL:https://www.brauer.vic.edu.au/event/year-9-futureme-session-all-day-at-deakin/
END:VEVENT
BEGIN:VEVENT
DTSTART;VALUE=DATE:20241016
DTEND;VALUE=DATE:20241017
DTSTAMP:20260423T084637
CREATED:20240904T024004Z
LAST-MODIFIED:20240930T021011Z
UID:16313-1729036800-1729123199@www.brauer.vic.edu.au
SUMMARY:Year 9 FutureME Session (during 2 periods)
DESCRIPTION:
URL:https://www.brauer.vic.edu.au/event/year-9-futureme-session-during-2-periods/
END:VEVENT
BEGIN:VEVENT
DTSTART;VALUE=DATE:20241014
DTEND;VALUE=DATE:20241015
DTSTAMP:20260423T084637
CREATED:20240913T061701Z
LAST-MODIFIED:20240930T021010Z
UID:16703-1728864000-1728950399@www.brauer.vic.edu.au
SUMMARY:Whole School Assembly
DESCRIPTION:
URL:https://www.brauer.vic.edu.au/event/whole-school-assembly/
END:VEVENT
BEGIN:VEVENT
DTSTART;VALUE=DATE:20241011
DTEND;VALUE=DATE:20241012
DTSTAMP:20260423T084637
CREATED:20240904T024004Z
LAST-MODIFIED:20240930T021010Z
UID:16312-1728604800-1728691199@www.brauer.vic.edu.au
SUMMARY:Year 7 2025 SIP Applications close
DESCRIPTION:
URL:https://www.brauer.vic.edu.au/event/year-7-2025-sip-applications-close/
END:VEVENT
BEGIN:VEVENT
DTSTART;VALUE=DATE:20241010
DTEND;VALUE=DATE:20241011
DTSTAMP:20260423T084637
CREATED:20240904T024004Z
LAST-MODIFIED:20240930T021010Z
UID:16311-1728518400-1728604799@www.brauer.vic.edu.au
SUMMARY:GWR Track and Field (Ballarat)
DESCRIPTION:
URL:https://www.brauer.vic.edu.au/event/gwr-track-and-field-ballarat/
END:VEVENT
BEGIN:VEVENT
DTSTART;VALUE=DATE:20241007
DTEND;VALUE=DATE:20241123
DTSTAMP:20260423T084637
CREATED:20240909T082332Z
LAST-MODIFIED:20240930T021010Z
UID:16529-1728259200-1732319999@www.brauer.vic.edu.au
SUMMARY:Report Cycle 6
DESCRIPTION:
URL:https://www.brauer.vic.edu.au/event/report-cycle-6/
END:VEVENT
BEGIN:VEVENT
DTSTART;VALUE=DATE:20241007
DTEND;VALUE=DATE:20241008
DTSTAMP:20260423T084637
CREATED:20240904T024004Z
LAST-MODIFIED:20240930T021010Z
UID:16310-1728259200-1728345599@www.brauer.vic.edu.au
SUMMARY:Start of Term 4
DESCRIPTION:
URL:https://www.brauer.vic.edu.au/event/start-of-term-4/
END:VEVENT
BEGIN:VEVENT
DTSTART;VALUE=DATE:20240920
DTEND;VALUE=DATE:20240921
DTSTAMP:20260423T084637
CREATED:20240909T082319Z
LAST-MODIFIED:20240920T232225Z
UID:16527-1726790400-1726876799@www.brauer.vic.edu.au
SUMMARY:Year 9 Picnic Lunch (Lunch to end of day)
DESCRIPTION:
URL:https://www.brauer.vic.edu.au/event/year-9-picnic-lunch-lunch-to-end-of-day/
END:VEVENT
BEGIN:VEVENT
DTSTART;VALUE=DATE:20240920
DTEND;VALUE=DATE:20240921
DTSTAMP:20260423T084637
CREATED:20240904T024004Z
LAST-MODIFIED:20240920T232225Z
UID:16309-1726790400-1726876799@www.brauer.vic.edu.au
SUMMARY:End of Term 3
DESCRIPTION:
URL:https://www.brauer.vic.edu.au/event/end-of-term-3/
END:VEVENT
BEGIN:VEVENT
DTSTART;VALUE=DATE:20240919
DTEND;VALUE=DATE:20240920
DTSTAMP:20260423T084637
CREATED:20240904T024004Z
LAST-MODIFIED:20240919T232808Z
UID:16307-1726704000-1726790399@www.brauer.vic.edu.au
SUMMARY:Year 10 University Immersion Day (all day at Deakin)
DESCRIPTION:
URL:https://www.brauer.vic.edu.au/event/year-10-university-immersion-day-all-day-at-deakin/
END:VEVENT
BEGIN:VEVENT
DTSTART;VALUE=DATE:20240918
DTEND;VALUE=DATE:20240919
DTSTAMP:20260423T084637
CREATED:20240904T024004Z
LAST-MODIFIED:20240918T233902Z
UID:16308-1726617600-1726703999@www.brauer.vic.edu.au
SUMMARY:Bell Shakespeare in PAC. Year 9 (P1-P2) Year 8 (P3-P4) Year 10 (P5-P6)
DESCRIPTION:
URL:https://www.brauer.vic.edu.au/event/bell-shakespeare-in-pac-year-9-p1-p2-year-8-p3-p4-year-10-p5-p6/
END:VEVENT
BEGIN:VEVENT
DTSTART;VALUE=DATE:20240917
DTEND;VALUE=DATE:20240918
DTSTAMP:20260423T084637
CREATED:20240909T082319Z
LAST-MODIFIED:20240917T233753Z
UID:16526-1726531200-1726617599@www.brauer.vic.edu.au
SUMMARY:Standing Tall End of Term Movie Excursion
DESCRIPTION:
URL:https://www.brauer.vic.edu.au/event/standing-tall-end-of-term-movie-excursion/
END:VEVENT
BEGIN:VEVENT
DTSTART;VALUE=DATE:20240916
DTEND;VALUE=DATE:20240917
DTSTAMP:20260423T084637
CREATED:20240910T054326Z
LAST-MODIFIED:20240916T233701Z
UID:16607-1726444800-1726531199@www.brauer.vic.edu.au
SUMMARY:Period 5 & 6 Unit 4 classes to run as usual
DESCRIPTION:
URL:https://www.brauer.vic.edu.au/event/period-5-6-unit-4-classes-to-run-as-usual/
END:VEVENT
BEGIN:VEVENT
DTSTART;VALUE=DATE:20240916
DTEND;VALUE=DATE:20240917
DTSTAMP:20260423T084637
CREATED:20240909T012109Z
LAST-MODIFIED:20240916T233701Z
UID:16474-1726444800-1726531199@www.brauer.vic.edu.au
SUMMARY:Parent-Student-Teacher Conferences  12noon - 7pm No scheduled classes to run for Year 7-11
DESCRIPTION:
URL:https://www.brauer.vic.edu.au/event/parent-student-teacher-conferences-12noon-7pm/
END:VEVENT
BEGIN:VEVENT
DTSTART;VALUE=DATE:20240915
DTEND;VALUE=DATE:20241001
DTSTAMP:20260423T084637
CREATED:20240909T012109Z
LAST-MODIFIED:20240930T021010Z
UID:16475-1726358400-1727740799@www.brauer.vic.edu.au
SUMMARY:Rock to Reef Camp
DESCRIPTION:
URL:https://www.brauer.vic.edu.au/event/rock-to-reef-camp/
END:VEVENT
BEGIN:VEVENT
DTSTART;VALUE=DATE:20240912
DTEND;VALUE=DATE:20240913
DTSTAMP:20260423T084637
CREATED:20240909T012109Z
LAST-MODIFIED:20240912T231453Z
UID:16473-1726099200-1726185599@www.brauer.vic.edu.au
SUMMARY:Year 12 Information Evening
DESCRIPTION:
URL:https://www.brauer.vic.edu.au/event/year-12-information-evening/
END:VEVENT
END:VCALENDAR